BEGIN:VCALENDAR
VERSION:2.0
PRODID:-//eventon.com NONSGML v1.0//EN
CALSCALE:GREGORIAN
METHOD:PUBLISH
BEGIN:VEVENT
UID:69e4d2b121fd4
DTSTAMP:20260419T130345Z
DTSTART:20260131T120000Z
DTEND:20260131T220000Z
LOCATION:GRAND THEATRE
SUMMARY:Harry Potter Chamber of Secret
DESCRIPTION:Harry Potter Chamber of Secret\nhttps://theatre.jiexpo.com/even
 ts/harry-potter-chamber-of-secret/
URL:https://theatre.jiexpo.com/events/harry-potter-chamber-of-secret/
END:VEVENT
BEGIN:VEVENT
UID:69e4d2b122204
DTSTAMP:20260419T130345Z
DTSTART:20251025T000000Z
DTEND:20251025T220000Z
LOCATION:GRAND THEATRE
SUMMARY:Malam 100 cinta part 3
DESCRIPTION:Malam 100 cinta part 3\nhttps://theatre.jiexpo.com/events/malam
 -100-cinta-part-3/
URL:https://theatre.jiexpo.com/events/malam-100-cinta-part-3/
END:VEVENT
BEGIN:VEVENT
UID:69e4d2b1223af
DTSTAMP:20260419T130345Z
DTSTART:19700101T000000Z
DTEND:19700101T000000Z
LOCATION:
SUMMARY:
DESCRIPTION:\nhttps://theatre.jiexpo.com/?post_type=ajde_events&p=5451
URL:https://theatre.jiexpo.com/?post_type=ajde_events&p=5451
END:VEVENT
BEGIN:VEVENT
UID:69e4d2b1225a1
DTSTAMP:20260419T130345Z
DTSTART:20251030T100000Z
DTEND:20251101T220000Z
LOCATION:GRAND THEATRE
SUMMARY:LIBERA CONCERT
DESCRIPTION:LIBERA CONCERT\nhttps://theatre.jiexpo.com/events/libera-concer
 t/
URL:https://theatre.jiexpo.com/events/libera-concert/
END:VEVENT
BEGIN:VEVENT
UID:69e4d2b122771
DTSTAMP:20260419T130345Z
DTSTART:20251009T100000Z
DTEND:20251012T200000Z
LOCATION:THEATRE
SUMMARY:Indonesia Sharia Economic Festival
DESCRIPTION:Indonesia Sharia Economic Festival\nhttps://theatre.jiexpo.com/
 events/indonesia-sharia-economic-festival/
URL:https://theatre.jiexpo.com/events/indonesia-sharia-economic-festival/
END:VEVENT
BEGIN:VEVENT
UID:69e4d2b122934
DTSTAMP:20260419T130345Z
DTSTART:20251003T000000Z
DTEND:20251005T220000Z
LOCATION:GRAND THEATRE
SUMMARY:Musical Guan Yu
DESCRIPTION:Musical Guan Yu\nhttps://theatre.jiexpo.com/events/musical-guan
 -yu/
URL:https://theatre.jiexpo.com/events/musical-guan-yu/
END:VEVENT
BEGIN:VEVENT
UID:69e4d2b122b2e
DTSTAMP:20260419T130345Z
DTSTART:20251018T150000Z
DTEND:20251018T220000Z
LOCATION:GRAND THEATRE
SUMMARY:Swan Lake Concert
DESCRIPTION:Swan Lake Concert\nhttps://theatre.jiexpo.com/events/swan-lake-
 concert/
URL:https://theatre.jiexpo.com/events/swan-lake-concert/
END:VEVENT
BEGIN:VEVENT
UID:69e4d2b122d50
DTSTAMP:20260419T130345Z
DTSTART:20250830T200000Z
DTEND:20250830T213000Z
LOCATION:GRAND THEATRE
SUMMARY:ADAM GYORGY
DESCRIPTION:ADAM GYORGY\nhttps://theatre.jiexpo.com/events/adam-gyorgy/
URL:https://theatre.jiexpo.com/events/adam-gyorgy/
END:VEVENT
BEGIN:VEVENT
UID:69e4d2b122f46
DTSTAMP:20260419T130345Z
DTSTART:20241123T170000Z
DTEND:20241123T210000Z
LOCATION:THEATRE
SUMMARY:Malam 100 Cinta Part 2
DESCRIPTION:Malam 100 Cinta Part 2\nhttps://theatre.jiexpo.com/events/malam
 -100-cinta-part-2/
URL:https://theatre.jiexpo.com/events/malam-100-cinta-part-2/
END:VEVENT
BEGIN:VEVENT
UID:69e4d2b123180
DTSTAMP:20260419T130345Z
DTSTART:20240922T000000Z
DTEND:20240922T220000Z
LOCATION:GRAND THEATRE
SUMMARY:Beyond The Notes…A Concert
DESCRIPTION:Beyond The Notes&#8230;A Concert\nhttps://theatre.jiexpo.com/ev
 ents/beyond-the-notes-a-concert/
URL:https://theatre.jiexpo.com/events/beyond-the-notes-a-concert/
END:VEVENT
BEGIN:VEVENT
UID:69e4d2b123383
DTSTAMP:20260419T130345Z
DTSTART:20240822T100000Z
DTEND:20240822T200000Z
LOCATION:GRAND THEATRE
SUMMARY:GERAKAN NASIONAL CERDAS KEUANGAN DALAM RANGKA HARI INDONESIA MENABUNG
DESCRIPTION:GERAKAN NASIONAL CERDAS KEUANGAN DALAM RANGKA HARI INDONESIA ME
 NABUNG\nhttps://theatre.jiexpo.com/events/gerakan-nasional-cerdas-keuangan-
 dalam-rangka-hari-indonesia-menabung/
URL:https://theatre.jiexpo.com/events/gerakan-nasional-cerdas-keuangan-dalam-rangka-hari-indonesia-menabung/
END:VEVENT
BEGIN:VEVENT
UID:69e4d2b1235a6
DTSTAMP:20260419T130345Z
DTSTART:20240817T000000Z
DTEND:20240818T220000Z
LOCATION:GRAND THEATRE
SUMMARY:Sabang Sampai Merauke 2024
DESCRIPTION:Sabang Sampai Merauke 2024\nhttps://theatre.jiexpo.com/events/s
 abang-sampai-merauke/
URL:https://theatre.jiexpo.com/events/sabang-sampai-merauke/
END:VEVENT
BEGIN:VEVENT
UID:69e4d2b1238e1
DTSTAMP:20260419T130345Z
DTSTART:20240831
DTEND:20240901
LOCATION:GRAND THEATRE
SUMMARY:Kim Ji Won “Be My One” Fan Meeting
DESCRIPTION:Kim Ji Won &#8220;Be My One&#8221; Fan Meeting\nhttps://theatre
 .jiexpo.com/events/kim-ji-won-be-my-one-fan-meeting/
URL:https://theatre.jiexpo.com/events/kim-ji-won-be-my-one-fan-meeting/
END:VEVENT
BEGIN:VEVENT
UID:69e4d2b123c36
DTSTAMP:20260419T130345Z
DTSTART:20240524
DTEND:20240525
LOCATION:GRAND THEATRE
SUMMARY:The Siddharta Dharma Musical
DESCRIPTION:The Siddharta Dharma Musical\nhttps://theatre.jiexpo.com/events
 /the-siddharta-dharma-musical/
URL:https://theatre.jiexpo.com/events/the-siddharta-dharma-musical/
END:VEVENT
BEGIN:VEVENT
UID:69e4d2b123f7e
DTSTAMP:20260419T130345Z
DTSTART:20240426T180000Z
DTEND:20240427T220000Z
LOCATION:GRAND THEATRE
SUMMARY:YI RUMA
DESCRIPTION:YI RUMA\nhttps://theatre.jiexpo.com/events/yi-ruma/
URL:https://theatre.jiexpo.com/events/yi-ruma/
END:VEVENT
BEGIN:VEVENT
UID:69e4d2b124358
DTSTAMP:20260419T130345Z
DTSTART:20240330T060000Z
DTEND:20240331T210000Z
LOCATION:THEATRE
SUMMARY:ASIA MUSIC FESTIVAL
DESCRIPTION:ASIA MUSIC FESTIVAL\nhttps://theatre.jiexpo.com/events/asia-mus
 ic-festival/
URL:https://theatre.jiexpo.com/events/asia-music-festival/
END:VEVENT
BEGIN:VEVENT
UID:69e4d2b1246b8
DTSTAMP:20260419T130345Z
DTSTART:20240608T150000Z
DTEND:20240608T210000Z
LOCATION:GRAND THEATRE
SUMMARY:ANIME SYMPHONY – OVERDRIVE
DESCRIPTION:ANIME SYMPHONY &#8211; OVERDRIVE\nhttps://theatre.jiexpo.com/ev
 ents/anime-symphony-overdrive/
URL:https://theatre.jiexpo.com/events/anime-symphony-overdrive/
END:VEVENT
BEGIN:VEVENT
UID:69e4d2b124a3d
DTSTAMP:20260419T130345Z
DTSTART:20231111T190000Z
DTEND:20231111T220000Z
LOCATION:THEATRE
SUMMARY:IL DIVO CONCERT
DESCRIPTION:IL DIVO CONCERT\nhttps://theatre.jiexpo.com/events/il-divo-conc
 ert/
URL:https://theatre.jiexpo.com/events/il-divo-concert/
END:VEVENT
BEGIN:VEVENT
UID:69e4d2b124d82
DTSTAMP:20260419T130345Z
DTSTART:20231113T170000Z
DTEND:20231113T210000Z
LOCATION:THEATRE
SUMMARY:JACOB COLLIER CONCERT
DESCRIPTION:JACOB COLLIER CONCERT\nhttps://theatre.jiexpo.com/events/jacob-
 collier-concert/
URL:https://theatre.jiexpo.com/events/jacob-collier-concert/
END:VEVENT
BEGIN:VEVENT
UID:69e4d2b1250fc
DTSTAMP:20260419T130345Z
DTSTART:20231209
DTEND:20231210
LOCATION:THEATRE &amp; JUNIOR BALLROOM
SUMMARY:100% UNTUK INDONESIA
DESCRIPTION:100% UNTUK INDONESIA\nhttps://theatre.jiexpo.com/events/festiva
 l-anugrah-pagelaran-seni-100-untuk-indonesia/
URL:https://theatre.jiexpo.com/events/festival-anugrah-pagelaran-seni-100-untuk-indonesia/
END:VEVENT
BEGIN:VEVENT
UID:69e4d2b1253e6
DTSTAMP:20260419T130345Z
DTSTART:20230819
DTEND:20230820
LOCATION:GRAND THEATRE
SUMMARY:PAGELARAN SABANG – MERAUKE
DESCRIPTION:PAGELARAN SABANG &#8211; MERAUKE\nhttps://theatre.jiexpo.com/ev
 ents/pagelaran-sabang-merauke/
URL:https://theatre.jiexpo.com/events/pagelaran-sabang-merauke/
END:VEVENT
BEGIN:VEVENT
UID:69e4d2b1256f1
DTSTAMP:20260419T130345Z
DTSTART:20230812T170000Z
DTEND:20230813T200000Z
LOCATION:GRAND THEATRE
SUMMARY:BALLET.ID
DESCRIPTION:BALLET.ID\nhttps://theatre.jiexpo.com/events/ballet-id/
URL:https://theatre.jiexpo.com/events/ballet-id/
END:VEVENT
BEGIN:VEVENT
UID:69e4d2b125a27
DTSTAMP:20260419T130345Z
DTSTART:20230805
DTEND:20230806
LOCATION:GRAND THEATRE\,  GRAND BALLROOM 3
SUMMARY:KONSER SEMESTA KRISDAYANTI
DESCRIPTION:KONSER SEMESTA KRISDAYANTI\nhttps://theatre.jiexpo.com/events/k
 onser-semesta-krisdayanti/
URL:https://theatre.jiexpo.com/events/konser-semesta-krisdayanti/
END:VEVENT
BEGIN:VEVENT
UID:69e4d2b125d09
DTSTAMP:20260419T130345Z
DTSTART:20230311T190000Z
DTEND:20230311T220000Z
LOCATION:GRAND THEATRE
SUMMARY:GALA CONCERT & INTERNATIONAL BALLET PERFOMANCE
DESCRIPTION:GALA CONCERT &#038; INTERNATIONAL BALLET PERFOMANCE\nhttps://th
 eatre.jiexpo.com/events/gala-concert-international-ballet-perfomance/
URL:https://theatre.jiexpo.com/events/gala-concert-international-ballet-perfomance/
END:VEVENT
END:VCALENDAR